{
 "currentVersion": 10.91,
 "serviceDescription": "",
 "mapName": "Layers",
 "description": "",
 "copyrightText": "",
 "supportsDynamicLayers": true,
 "layers": [
  {
   "id": 0,
   "name": "MACBOS17_Delivery.sid",
   "parentLayerId": -1,
   "defaultVisibility": true,
   "subLayerIds": null,
   "minScale": 0,
   "maxScale": 0,
   "type": "Raster Layer"
  }
 ],
 "tables": [],
 "spatialReference": {
  "wkid": 102100,
  "latestWkid": 3857
 },
 "singleFusedMapCache": true,
 "tileInfo": {
  "rows": 256,
  "cols": 256,
  "dpi": 96,
  "format": "PNG",
  "compressionQuality": 0,
  "origin": {
   "x": -2.0037508342787E7,
   "y": 2.0037508342787E7
  },
  "spatialReference": {
   "wkid": 102100,
   "latestWkid": 3857
  },
  "lods": [
   {
    "level": 0,
    "resolution": 38.1000762001524,
    "scale": 144000
   },
   {
    "level": 1,
    "resolution": 20.32004064008128,
    "scale": 76800
   },
   {
    "level": 2,
    "resolution": 10.16002032004064,
    "scale": 38400
   },
   {
    "level": 3,
    "resolution": 7.9375158750317505,
    "scale": 30000
   },
   {
    "level": 4,
    "resolution": 5.08001016002032,
    "scale": 19200
   },
   {
    "level": 5,
    "resolution": 3.1750063500127004,
    "scale": 12000
   },
   {
    "level": 6,
    "resolution": 2.54000508001016,
    "scale": 9600
   },
   {
    "level": 7,
    "resolution": 1.27000254000508,
    "scale": 4800
   },
   {
    "level": 8,
    "resolution": 0.63500127000254,
    "scale": 2400
   },
   {
    "level": 9,
    "resolution": 0.31750063500127,
    "scale": 1200
   },
   {
    "level": 10,
    "resolution": 0.158750317500635,
    "scale": 600
   },
   {
    "level": 11,
    "resolution": 0.0793751587503175,
    "scale": 300
   },
   {
    "level": 12,
    "resolution": 0.031750063500127004,
    "scale": 120
   },
   {
    "level": 13,
    "resolution": 0.015875031750063502,
    "scale": 60
   },
   {
    "level": 14,
    "resolution": 0.007937515875031751,
    "scale": 30
   }
  ]
 },
 "initialExtent": {
  "xmin": -7911158.903313595,
  "ymin": 5222675.748817434,
  "xmax": -7896437.4572040355,
  "ymax": 5228697.677527958,
  "spatialReference": {
   "wkid": 102100,
   "latestWkid": 3857
  }
 },
 "fullExtent": {
  "xmin": -7925461.11828056,
  "ymin": 5190622.7482885225,
  "xmax": -7897013.221098675,
  "ymax": 5228942.296296614,
  "spatialReference": {
   "wkid": 102100,
   "latestWkid": 3857
  }
 },
 "minScale": 144000,
 "maxScale": 30,
 "minLOD": 0,
 "maxLOD": 9,
 "units": "esriMeters",
 "supportedImageFormatTypes": "PNG32,PNG24,PNG,JPG,DIB,TIFF,EMF,PS,PDF,GIF,SVG,SVGZ,BMP",
 "documentInfo": {
  "Title": "",
  "Author": "",
  "Comments": "",
  "Subject": "",
  "Category": "",
  "AntialiasingMode": "None",
  "TextAntialiasingMode": "Force",
  "Keywords": ""
 },
 "capabilities": "Map",
 "supportedQueryFormats": "JSON, geoJSON",
 "exportTilesAllowed": false,
 "referenceScale": 0,
 "supportsDatumTransformation": true,
 "maxRecordCount": 10000,
 "maxImageHeight": 4096,
 "maxImageWidth": 4096,
 "supportedExtensions": ""
}
